BEGIN:VCALENDAR
VERSION:2.0
BEGIN:VEVENT
URL:https://www.greek-chat.gr/social/viewevent.html?eventid=1 
DTSTART:20120121T093000
DTEND:20120121T150000
SUMMARY:Κοπή πρωτοχρονιάτικης πίτας του Greek-Chat 2012
DESCRIPTION:<p> </p>
<p> </p>
<p> </p>
<p class="p1"><strong>Τιμή κατά άτομο 15 ευρώ</strong></p>
<p class="p2"><span class="s1"><strong>MENU</strong></span><strong> ( 4 άτομα)</strong></p>
<ul class="ul1">
<li class="li2"><span class="s2">•<span> </span></span>2 σαλάτες</li>
<li class="li2"><span class="s2">•<span> </span></span>Τζατζίκι</li>
<li class="li2"><span class="s2">•<span> </span></span>Τυροκαυτερή</li>
<li class="li2"><span class="s2">•<span> </span></span><strong>Πατάτες τηγανιτές</strong></li>
<li class="li2"><span class="s2">•<span> </span></span><strong>Λουκάνικα</strong></li>
<li class="li2"><span class="s2">•<span> </span></span><strong>Κεφτεδάκια</strong></li>
<li class="li2"><span class="s2">•<span> </span></span><strong>Τηγανιά</strong></li>
<li class="li2"><span class="s1">•<span> </span></span><strong>Άφθονο κρασί και αναψυκτικά και φυσικά την πίτα </strong></li>
</ul>
<p> </p>
<p>Για περισσότερες πληροφορίες αλλά και δηλώσεις συμμετοχής μέσω του συγκεκριμένου event  ή στα prive των (Demoulous, Vales, Mitsakos27)</p>
<p> </p>
<p class="p1"> </p>
<p class="p1">Παρακάτω αναγράφεται  η  λίστα με τους συμμετέχοντες και θα ενημερώνετε συχνά.</p>
<p class="p1"> </p>
<p class="p1"><a href="demoulous/"><strong>demoulous</strong></a><strong> 1</strong></p>
<p class="p1"><a href="vales-rigas/"><strong>vales-rigas</strong></a><strong> 1</strong></p>
<p class="p1"><a href="sex_rider18/"><strong>sex_rider18</strong></a><strong> 1</strong></p>
<p class="p1"><a href="mmaraki/"><strong>Mmaraki</strong></a><strong> 1</strong></p>
<p class="p1"><a href="amelia/"><strong>amelia</strong></a><strong> 2</strong></p>
<p class="p1"><a href="cris/"><strong>cris</strong></a><strong> 2</strong></p>
<p class="p1"><a href="mitsakos27/"><strong>mitsakos27</strong></a><strong> 1</strong></p>
<p class="p1"><a href="ria-free/"><strong>ria free</strong></a><strong> 1</strong></p>
<p class="p1"><a href="*gingie*/"><strong>*gingie*</strong></a><strong> 1</strong></p>
<p class="p1"><a href="billy-the-kid/"><strong>billy the kid</strong></a><strong> 1</strong></p>
<p class="p1"><a href="madcow1977/"><strong>madcow1977</strong></a><strong> 1</strong></p>
<p class="p1"><a href="nikosx/"><strong>nikosx</strong></a><strong> 1</strong></p>
<p class="p1"><a href="dridis/"><strong>dridis</strong></a><strong> 1</strong></p>
<p class="p1"><strong>narkisia 2</strong></p>
<p class="p1"><strong>eftixia 1</strong></p>
<p> </p>
<p class="p1"> </p>
<p> </p>
LOCATION:Athens
END:VEVENT
END:VCALENDAR